BEGIN:VCALENDAR
VERSION:2.0
PRODID:-//Flow Game Camp - ECPv6.9.0//NONSGML v1.0//EN
CALSCALE:GREGORIAN
METHOD:PUBLISH
X-WR-CALNAME:Flow Game Camp
X-ORIGINAL-URL:https://flowgame.store
X-WR-CALDESC:Eventos para Flow Game Camp
REFRESH-INTERVAL;VALUE=DURATION:PT1H
X-Robots-Tag:noindex
X-PUBLISHED-TTL:PT1H
BEGIN:VTIMEZONE
TZID:America/Argentina/Buenos_Aires
BEGIN:STANDARD
TZOFFSETFROM:-0300
TZOFFSETTO:-0300
TZNAME:-03
DTSTART:20260101T000000
END:STANDARD
END:VTIMEZONE
BEGIN:VEVENT
DTSTART;VALUE=DATE:20260313
DTEND;VALUE=DATE:20260316
DTSTAMP:20260421T153048
CREATED:20260203T172302Z
LAST-MODIFIED:20260203T201619Z
UID:8121-1773360000-1773619199@flowgame.store
SUMMARY:THE LAST DANCE\, BUENOS AIRES
DESCRIPTION:
URL:https://flowgame.store/evento/campus-final-ba/
LOCATION:Club Nautico Hacoaj\, Luis García 943\, Tigre\, Buenos Aires\, B1648\, Argentina
ORGANIZER;CN="Flowgame Basketball":MAILTO:flowgamecamps@gmail.com
END:VEVENT
END:VCALENDAR