BEGIN:VCALENDAR
VERSION:2.0
PRODID:-//Flow Game Camp - ECPv6.9.0//NONSGML v1.0//EN
CALSCALE:GREGORIAN
METHOD:PUBLISH
X-ORIGINAL-URL:https://flowgame.store
X-WR-CALDESC:Eventos para Flow Game Camp
REFRESH-INTERVAL;VALUE=DURATION:PT1H
X-Robots-Tag:noindex
X-PUBLISHED-TTL:PT1H
BEGIN:VTIMEZONE
TZID:America/Argentina/Buenos_Aires
BEGIN:STANDARD
TZOFFSETFROM:-0300
TZOFFSETTO:-0300
TZNAME:-03
DTSTART:20250101T000000
END:STANDARD
END:VTIMEZONE
BEGIN:VEVENT
DTSTART;VALUE=DATE:20251205
DTEND;VALUE=DATE:20251208
DTSTAMP:20260421T215624
CREATED:20251104T155344Z
LAST-MODIFIED:20251126T131615Z
UID:10000028-1764892800-1765151999@flowgame.store
SUMMARY:CAMPUS GUADALAJARA\, MEXICO
DESCRIPTION:
URL:https://flowgame.store/evento/campus-guadalajara-mexico/
LOCATION:MVP Universe\, Diego Rivera 98\, Lomas de Tlaquepaque\, 45559 San Pedro Tlaquepaque\, Jal.\, Mexico\, Guadalajara\, Jalisco\, Mexico
ATTACH;FMTTYPE=image/jpeg:https://flowgame.store/wp-content/uploads/2025/11/PLACA-Guadalajara-camp_.jpg
ORGANIZER;CN="Flowgame Basketball":MAILTO:flowgamecamps@gmail.com
END:VEVENT
END:VCALENDAR