BEGIN:VCALENDAR
VERSION:2.0
PRODID:-//Flow Game Camp - ECPv6.9.0//NONSGML v1.0//EN
CALSCALE:GREGORIAN
METHOD:PUBLISH
X-WR-CALNAME:Flow Game Camp
X-ORIGINAL-URL:https://flowgame.store
X-WR-CALDESC:Eventos para Flow Game Camp
REFRESH-INTERVAL;VALUE=DURATION:PT1H
X-Robots-Tag:noindex
X-PUBLISHED-TTL:PT1H
BEGIN:VTIMEZONE
TZID:America/Argentina/Buenos_Aires
BEGIN:STANDARD
TZOFFSETFROM:-0300
TZOFFSETTO:-0300
TZNAME:-03
DTSTART:20250101T000000
END:STANDARD
END:VTIMEZONE
BEGIN:VEVENT
DTSTART;VALUE=DATE:20251219
DTEND;VALUE=DATE:20251222
DTSTAMP:20260421T215520
CREATED:20251005T170856Z
LAST-MODIFIED:20251114T192835Z
UID:10000023-1766102400-1766361599@flowgame.store
SUMMARY:CAMPUS CDMX\, MEXICO 2
DESCRIPTION:
URL:https://flowgame.store/evento/campus-cdmx-mexico-2/
LOCATION:Centro Deportivo Israelita\, Perif. Blvd. Manuel Ávila Camacho 620\, Ciudad de Mexico\, Naucalpan de Juárez\, 11200\, Mexico
ATTACH;FMTTYPE=image/jpeg:https://flowgame.store/wp-content/uploads/2025/11/PLACA-CIUDAD-DE-MEXICO-camp-1.jpg
ORGANIZER;CN="Flowgame Basketball":MAILTO:flowgamecamps@gmail.com
END:VEVENT
END:VCALENDAR