BEGIN:VCALENDAR
VERSION:2.0
PRODID:-//Flow Game Camp - ECPv6.9.0//NONSGML v1.0//EN
CALSCALE:GREGORIAN
METHOD:PUBLISH
X-ORIGINAL-URL:https://flowgame.store
X-WR-CALDESC:Eventos para Flow Game Camp
REFRESH-INTERVAL;VALUE=DURATION:PT1H
X-Robots-Tag:noindex
X-PUBLISHED-TTL:PT1H
BEGIN:VTIMEZONE
TZID:America/Argentina/Buenos_Aires
BEGIN:STANDARD
TZOFFSETFROM:-0300
TZOFFSETTO:-0300
TZNAME:-03
DTSTART:20260101T000000
END:STANDARD
END:VTIMEZONE
BEGIN:VEVENT
DTSTART;VALUE=DATE:20260220
DTEND;VALUE=DATE:20260223
DTSTAMP:20260421T193806
CREATED:20251102T195657Z
LAST-MODIFIED:20260203T201501Z
UID:10000024-1771545600-1771804799@flowgame.store
SUMMARY:CAMPUS CORDOBA\, ARGENTINA
DESCRIPTION:
URL:https://flowgame.store/evento/campus-cordoba-argentina/
LOCATION:Club Talleres\, Club Talleres de Cordoba\, Cordoba\, Cordoba\, Argentina
ORGANIZER;CN="Flowgame Basketball":MAILTO:flowgamecamps@gmail.com
END:VEVENT
END:VCALENDAR