BEGIN:VCALENDAR
VERSION:2.0
PRODID:-//Flow Game Camp - ECPv6.9.0//NONSGML v1.0//EN
CALSCALE:GREGORIAN
METHOD:PUBLISH
X-WR-CALNAME:Flow Game Camp
X-ORIGINAL-URL:https://flowgame.store
X-WR-CALDESC:Eventos para Flow Game Camp
REFRESH-INTERVAL;VALUE=DURATION:PT1H
X-Robots-Tag:noindex
X-PUBLISHED-TTL:PT1H
BEGIN:VTIMEZONE
TZID:America/Argentina/Buenos_Aires
BEGIN:STANDARD
TZOFFSETFROM:-0300
TZOFFSETTO:-0300
TZNAME:-03
DTSTART:20260101T000000
END:STANDARD
END:VTIMEZONE
BEGIN:VEVENT
DTSTART;VALUE=DATE:20260227
DTEND;VALUE=DATE:20260316
DTSTAMP:20260421T191659
CREATED:20251102T195851Z
LAST-MODIFIED:20260105T125745Z
UID:10000025-1772150400-1773619199@flowgame.store
SUMMARY:CAMPUS BAHIA BLANCA\, ARGENTINA
DESCRIPTION:
URL:https://flowgame.store/evento/campus-bahia-argentina/
LOCATION:Dow Center\, Rodriguez 4985\, Bahía Blanca\, Buenos Aires\, B800\, Argentina
ATTACH;FMTTYPE=image/jpeg:https://flowgame.store/wp-content/uploads/2025/11/PLACA-Bahia-Blanca-camp.jpg
ORGANIZER;CN="Flowgame Basketball":MAILTO:flowgamecamps@gmail.com
END:VEVENT
END:VCALENDAR